BEGIN:VCALENDAR
VERSION:2.0
PRODID:-//Vespalinge Berlin - ECPv6.15.20//NONSGML v1.0//EN
CALSCALE:GREGORIAN
METHOD:PUBLISH
X-ORIGINAL-URL:https://www.vespalinge.de
X-WR-CALDESC:Veranstaltungen für Vespalinge Berlin
REFRESH-INTERVAL;VALUE=DURATION:PT1H
X-Robots-Tag:noindex
X-PUBLISHED-TTL:PT1H
BEGIN:VTIMEZONE
TZID:Europe/Berlin
BEGIN:DAYLIGHT
TZOFFSETFROM:+0100
TZOFFSETTO:+0200
TZNAME:CEST
DTSTART:20240331T010000
END:DAYLIGHT
BEGIN:STANDARD
TZOFFSETFROM:+0200
TZOFFSETTO:+0100
TZNAME:CET
DTSTART:20241027T010000
END:STANDARD
BEGIN:DAYLIGHT
TZOFFSETFROM:+0100
TZOFFSETTO:+0200
TZNAME:CEST
DTSTART:20250330T010000
END:DAYLIGHT
BEGIN:STANDARD
TZOFFSETFROM:+0200
TZOFFSETTO:+0100
TZNAME:CET
DTSTART:20251026T010000
END:STANDARD
BEGIN:DAYLIGHT
TZOFFSETFROM:+0100
TZOFFSETTO:+0200
TZNAME:CEST
DTSTART:20260329T010000
END:DAYLIGHT
BEGIN:STANDARD
TZOFFSETFROM:+0200
TZOFFSETTO:+0100
TZNAME:CET
DTSTART:20261025T010000
END:STANDARD
BEGIN:DAYLIGHT
TZOFFSETFROM:+0100
TZOFFSETTO:+0200
TZNAME:CEST
DTSTART:20270328T010000
END:DAYLIGHT
BEGIN:STANDARD
TZOFFSETFROM:+0200
TZOFFSETTO:+0100
TZNAME:CET
DTSTART:20271031T010000
END:STANDARD
END:VTIMEZONE
BEGIN:VEVENT
DTSTART;TZID=Europe/Berlin:20260423T183000
DTEND;TZID=Europe/Berlin:20260423T210000
DTSTAMP:20260424T173238
CREATED:20251226T133300Z
LAST-MODIFIED:20260313T073410Z
UID:2431-1776969000-1776978000@www.vespalinge.de
SUMMARY:Clubabend
DESCRIPTION:Die Clubabende der Vespalinge finden 14-tägig\, jeden Donnerstag der ungeraden Wochenzahlen statt (19./21./23./25. Kalenderwoche\, etc). Sollte anstelle des Clublokals „Sempre“ (Eisenacher Str. 19 in 12109 Berlin) eine andere Örtlichkeit gewählt werden\, wird dies entsprechend bekannt gegeben.
URL:https://www.vespalinge.de/event/clubabend-139/
CATEGORIES:Clubabend
ATTACH;FMTTYPE=image/jpeg:https://www.vespalinge.de/wp-content/uploads/2025/12/Sempre.jpg
END:VEVENT
BEGIN:VEVENT
DTSTART;TZID=Europe/Berlin:20260409T183000
DTEND;TZID=Europe/Berlin:20260409T210000
DTSTAMP:20260424T173238
CREATED:20251226T133055Z
LAST-MODIFIED:20260313T073346Z
UID:2429-1775759400-1775768400@www.vespalinge.de
SUMMARY:Clubabend
DESCRIPTION:Die Clubabende der Vespalinge finden 14-tägig\, jeden Donnerstag der ungeraden Wochenzahlen statt (19./21./23./25. Kalenderwoche\, etc). Sollte anstelle des Clublokals „Sempre“ (Eisenacher Str. 19 in 12109 Berlin) eine andere Örtlichkeit gewählt werden\, wird dies entsprechend bekannt gegeben.
URL:https://www.vespalinge.de/event/clubabend-138/
LOCATION:Ristorante Sempre (Tempelhof/Mariendorf)\, Eisenacher Straße 19\, Berlin\, 12109\, Germany
CATEGORIES:Clubabend
ATTACH;FMTTYPE=image/jpeg:https://www.vespalinge.de/wp-content/uploads/2025/12/Sempre.jpg
END:VEVENT
BEGIN:VEVENT
DTSTART;VALUE=DATE:20260405
DTEND;VALUE=DATE:20260407
DTSTAMP:20260424T173238
CREATED:20260225T205654Z
LAST-MODIFIED:20260312T132859Z
UID:2726-1775347200-1775519999@www.vespalinge.de
SUMMARY:Ostern
DESCRIPTION:Die Vespalinge wünschen Allen ein frohes Osterfest.
URL:https://www.vespalinge.de/event/ostern/
CATEGORIES:Feiertage
ATTACH;FMTTYPE=image/png:https://www.vespalinge.de/wp-content/uploads/2026/02/Bild_2026-03-12_142514922-e1773322051606.png
END:VEVENT
BEGIN:VEVENT
DTSTART;TZID=Europe/Berlin:20260403T110000
DTEND;TZID=Europe/Berlin:20260403T163000
DTSTAMP:20260424T173238
CREATED:20260301T153155Z
LAST-MODIFIED:20260329T172407Z
UID:3006-1775214000-1775233800@www.vespalinge.de
SUMMARY:Anrollern 2026
DESCRIPTION:Die Wetterprognose gibt keinen guten Ansatz um die Fahrt durzuführen.\nLieber warm anziehen. \nWir verschieben es in die wärmere Zeit. \nEine Fahrt  aus der Mitte-Berlins Richtung Norden zum Gasthof „Zum Flößer“\nan der Havel. \nFahrzeit eine Richtung: ca. 1 h \nEinzelheiten / Änderungen werden bekannt gemacht.
URL:https://www.vespalinge.de/event/3006/
CATEGORIES:Anrollern
ATTACH;FMTTYPE=image/png:https://www.vespalinge.de/wp-content/uploads/2026/03/Alpaka-1.png
END:VEVENT
BEGIN:VEVENT
DTSTART;VALUE=DATE:20260403
DTEND;VALUE=DATE:20260404
DTSTAMP:20260424T173238
CREATED:20260225T204648Z
LAST-MODIFIED:20260312T142713Z
UID:2724-1775174400-1775260799@www.vespalinge.de
SUMMARY:Karfreitag
DESCRIPTION:heute ist Car-Freitag
URL:https://www.vespalinge.de/event/karfreitag/
CATEGORIES:Feiertage
END:VEVENT
BEGIN:VEVENT
DTSTART;TZID=Europe/Berlin:20260326T183000
DTEND;TZID=Europe/Berlin:20260326T210000
DTSTAMP:20260424T173238
CREATED:20251226T132717Z
LAST-MODIFIED:20260313T073322Z
UID:2427-1774549800-1774558800@www.vespalinge.de
SUMMARY:Clubabend
DESCRIPTION:Die Clubabende der Vespalinge finden 14-tägig\, jeden Donnerstag der ungeraden Wochenzahlen statt (19./21./23./25. Kalenderwoche\, etc). Sollte anstelle des Clublokals „Sempre“ (Eisenacher Str. 19 in 12109 Berlin) eine andere Örtlichkeit gewählt werden\, wird dies entsprechend bekannt gegeben. \nhttps://www.openstreetmap.org/search?lat=52.447537&lon=13.392803&zoom=19#map=19/52.447536/13.392803
URL:https://www.vespalinge.de/event/clubabend-137/
LOCATION:Ristorante Sempre (Tempelhof/Mariendorf)\, Eisenacher Straße 19\, Berlin\, 12109\, Germany
CATEGORIES:Clubabend
ATTACH;FMTTYPE=image/jpeg:https://www.vespalinge.de/wp-content/uploads/2025/12/Sempre.jpg
END:VEVENT
BEGIN:VEVENT
DTSTART;TZID=Europe/Berlin:20260312T183000
DTEND;TZID=Europe/Berlin:20260312T210000
DTSTAMP:20260424T173238
CREATED:20251226T132500Z
LAST-MODIFIED:20260417T132410Z
UID:2425-1773340200-1773349200@www.vespalinge.de
SUMMARY:Clubabend
DESCRIPTION:Die Clubabende der Vespalinge finden 14-tägig\, jeden Donnerstag der ungeraden Wochenzahlen statt (19./21./23./25. Kalenderwoche\, etc). Sollte anstelle des Clublokals „Sempre“ (Eisenacher Str. 19 in 12109 Berlin) eine andere Örtlichkeit gewählt werden\, wird dies entsprechend bekannt gegeben. \nhttps://www.openstreetmap.org/search?lat=52.447537&lon=13.392803&zoom=19#map=19/52.447536/13.392803
URL:https://www.vespalinge.de/event/clubabend-136/
LOCATION:Ristorante Sempre (Tempelhof/Mariendorf)\, Eisenacher Straße 19\, Berlin\, 12109\, Germany
CATEGORIES:Clubabend
END:VEVENT
BEGIN:VEVENT
DTSTART;TZID=Europe/Berlin:20260226T183000
DTEND;TZID=Europe/Berlin:20260226T210000
DTSTAMP:20260424T173238
CREATED:20251207T181920Z
LAST-MODIFIED:20251207T182318Z
UID:2413-1772130600-1772139600@www.vespalinge.de
SUMMARY:Clubabend
DESCRIPTION:Die Clubabende der Vespalinge finden 14-tägig\, jeden Donnerstag der ungeraden Wochenzahlen statt (19./21./23./25. Kalenderwoche\, etc). Sollte anstelle des Clublokals „Sempre“ (Eisenacher Str. 19 in 12109 Berlin) eine andere Örtlichkeit gewählt werden\, wird dies entsprechend bekannt gegeben.
URL:https://www.vespalinge.de/event/clubabend-134/
LOCATION:Ristorante Sempre (Tempelhof/Mariendorf)\, Eisenacher Straße 19\, Berlin\, 12109\, Germany
CATEGORIES:Clubabend
END:VEVENT
BEGIN:VEVENT
DTSTART;TZID=Europe/Berlin:20260212T183000
DTEND;TZID=Europe/Berlin:20260212T210000
DTSTAMP:20260424T173238
CREATED:20251207T181259Z
LAST-MODIFIED:20260227T133539Z
UID:2410-1770921000-1770930000@www.vespalinge.de
SUMMARY:Clubabend
DESCRIPTION:Die Clubabende der Vespalinge finden 14-tägig\, jeden Donnerstag der ungeraden Wochenzahlen statt (19./21./23./25. Kalenderwoche\, etc). Sollte anstelle des Clublokals „Sempre“ (Eisenacher Str. 19 in 12109 Berlin) eine andere Örtlichkeit gewählt werden\, wird dies entsprechend bekannt gegeben.
URL:https://www.vespalinge.de/event/clubabend-123/
LOCATION:Ristorante Sempre (Tempelhof/Mariendorf)\, Eisenacher Straße 19\, Berlin\, 12109\, Germany
CATEGORIES:Clubabend
END:VEVENT
BEGIN:VEVENT
DTSTART;TZID=Europe/Berlin:20260129T190000
DTEND;TZID=Europe/Berlin:20260129T210000
DTSTAMP:20260424T173238
CREATED:20251226T131757Z
LAST-MODIFIED:20260309T131906Z
UID:2422-1769713200-1769720400@www.vespalinge.de
SUMMARY:Jahrershauptversammlung 2025 der Vespalinge
DESCRIPTION:Die Jahreshauptversammlung der Vespalinge findet wie üblich in unserem Clublokal: Restaurant Sempre\, Eisenacher Straße 19\, in 12109 Berlin statt! \nTeilnahme und Stimmberechtigung nur für Clubmitglieder\, die ihren Beitrag bis einschließlich Dezember 2025 entrichtet haben. Die Einladungen hierzu sind bereits zugegangen\, wir bitten um rege Beteiligung.
URL:https://www.vespalinge.de/event/jahrershauptversammlung-2025/
LOCATION:Ristorante Sempre (Tempelhof/Mariendorf)\, Eisenacher Straße 19\, Berlin\, 12109\, Germany
CATEGORIES:Jahreshauptversammlung
END:VEVENT
BEGIN:VEVENT
DTSTART;TZID=Europe/Berlin:20260115T183000
DTEND;TZID=Europe/Berlin:20260115T210000
DTSTAMP:20260424T173238
CREATED:20251207T182759Z
LAST-MODIFIED:20260311T084336Z
UID:2416-1768501800-1768510800@www.vespalinge.de
SUMMARY:Clubabend
DESCRIPTION:Die Clubabende der Vespalinge finden 14-tägig\, jeden Donnerstag der ungeraden Wochenzahlen statt (19./21./23./25. Kalenderwoche\, etc). Sollte anstelle des Clublokals „Sempre“ (Eisenacher Str. 19 in 12109 Berlin) eine andere Örtlichkeit gewählt werden\, wird dies entsprechend bekannt gegeben.
URL:https://www.vespalinge.de/event/clubabend-135/
LOCATION:Ristorante Sempre (Tempelhof/Mariendorf)\, Eisenacher Straße 19\, Berlin\, 12109\, Germany
CATEGORIES:Clubabend
END:VEVENT
BEGIN:VEVENT
DTSTART;TZID=Europe/Berlin:20251218T193000
DTEND;TZID=Europe/Berlin:20251218T213000
DTSTAMP:20260424T173238
CREATED:20250525T144347Z
LAST-MODIFIED:20260227T102235Z
UID:2270-1766086200-1766093400@www.vespalinge.de
SUMMARY:Clubabend
DESCRIPTION:Die Clubabende der Vespalinge finden 14-tägig\, jeden Donnerstag der ungeraden Wochenzahlen statt (19./21./23./25. Kalenderwoche\, etc). Sollte anstelle des Clublokals „Sempre“ (Eisenacher Str. 19 in 12109 Berlin) eine andere Örtlichkeit gewählt werden\, wird dies entsprechend bekannt gegeben.
URL:https://www.vespalinge.de/event/clubabend-130/
LOCATION:Ristorante Sempre (Tempelhof/Mariendorf)\, Eisenacher Straße 19\, Berlin\, 12109\, Germany
CATEGORIES:Clubabend
END:VEVENT
BEGIN:VEVENT
DTSTART;TZID=Europe/Berlin:20251204T183000
DTEND;TZID=Europe/Berlin:20251204T213000
DTSTAMP:20260424T173238
CREATED:20250525T144404Z
LAST-MODIFIED:20260227T102501Z
UID:2268-1764873000-1764883800@www.vespalinge.de
SUMMARY:Clubabend
DESCRIPTION:Die Clubabende der Vespalinge finden 14-tägig\, jeden Donnerstag der ungeraden Wochenzahlen statt (19./21./23./25. Kalenderwoche\, etc). Sollte anstelle des Clublokals „Sempre“ (Eisenacher Str. 19 in 12109 Berlin) eine andere Örtlichkeit gewählt werden\, wird dies entsprechend bekannt gegeben.
URL:https://www.vespalinge.de/event/clubabend-131/
LOCATION:Ristorante Sempre (Tempelhof/Mariendorf)\, Eisenacher Straße 19\, Berlin\, 12109\, Germany
CATEGORIES:Clubabend
END:VEVENT
BEGIN:VEVENT
DTSTART;TZID=Europe/Berlin:20251120T183000
DTEND;TZID=Europe/Berlin:20251120T213000
DTSTAMP:20260424T173238
CREATED:20250525T144412Z
LAST-MODIFIED:20250704T112627Z
UID:2266-1763663400-1763674200@www.vespalinge.de
SUMMARY:Clubabend
DESCRIPTION:Die Clubabende der Vespalinge finden 14-tägig\, jeden Donnerstag der ungeraden Wochenzahlen statt (19./21./23./25. Kalenderwoche\, etc). Sollte anstelle des Clublokals „Sempre“ (Eisenacher Str. 19 in 12109 Berlin) eine andere Örtlichkeit gewählt werden\, wird dies entsprechend bekannt gegeben.
URL:https://www.vespalinge.de/event/clubabend-132/
LOCATION:Ristorante Sempre (Tempelhof/Mariendorf)\, Eisenacher Straße 19\, Berlin\, 12109\, Germany
CATEGORIES:Clubabend
END:VEVENT
BEGIN:VEVENT
DTSTART;TZID=Europe/Berlin:20251106T183000
DTEND;TZID=Europe/Berlin:20251106T213000
DTSTAMP:20260424T173238
CREATED:20250525T144420Z
LAST-MODIFIED:20250704T112608Z
UID:2264-1762453800-1762464600@www.vespalinge.de
SUMMARY:Clubabend
DESCRIPTION:Die Clubabende der Vespalinge finden 14-tägig\, jeden Donnerstag der ungeraden Wochenzahlen statt (19./21./23./25. Kalenderwoche\, etc). Sollte anstelle des Clublokals „Sempre“ (Eisenacher Str. 19 in 12109 Berlin) eine andere Örtlichkeit gewählt werden\, wird dies entsprechend bekannt gegeben.
URL:https://www.vespalinge.de/event/clubabend-133/
LOCATION:Ristorante Sempre (Tempelhof/Mariendorf)\, Eisenacher Straße 19\, Berlin\, 12109\, Germany
CATEGORIES:Clubabend
END:VEVENT
BEGIN:VEVENT
DTSTART;TZID=Europe/Berlin:20251023T183000
DTEND;TZID=Europe/Berlin:20251023T213000
DTSTAMP:20260424T173238
CREATED:20250510T131008Z
LAST-MODIFIED:20250510T131009Z
UID:2237-1761244200-1761255000@www.vespalinge.de
SUMMARY:Clubabend
DESCRIPTION:Die Clubabende der Vespalinge finden 14-tägig\, jeden Donnerstag der ungeraden Wochenzahlen statt (19./21./23./25. Kalenderwoche\, etc). Sollte anstelle des Clublokals „Sempre“ (Eisenacher Str. 19 in 12109 Berlin) eine andere Örtlichkeit gewählt werden\, wird dies entsprechend bekannt gegeben.
URL:https://www.vespalinge.de/event/clubabend-129/
LOCATION:Ristorante Sempre (Tempelhof/Mariendorf)\, Eisenacher Straße 19\, Berlin\, 12109\, Germany
CATEGORIES:Clubabend
END:VEVENT
BEGIN:VEVENT
DTSTART;TZID=Europe/Berlin:20251009T183000
DTEND;TZID=Europe/Berlin:20251009T213000
DTSTAMP:20260424T173238
CREATED:20250510T130518Z
LAST-MODIFIED:20250510T130519Z
UID:2233-1760034600-1760045400@www.vespalinge.de
SUMMARY:Clubabend
DESCRIPTION:Die Clubabende der Vespalinge finden 14-tägig\, jeden Donnerstag der ungeraden Wochenzahlen statt (19./21./23./25. Kalenderwoche\, etc). Sollte anstelle des Clublokals „Sempre“ (Eisenacher Str. 19 in 12109 Berlin) eine andere Örtlichkeit gewählt werden\, wird dies entsprechend bekannt gegeben.
URL:https://www.vespalinge.de/event/clubabend-127/
LOCATION:Ristorante Sempre (Tempelhof/Mariendorf)\, Eisenacher Straße 19\, Berlin\, 12109\, Germany
CATEGORIES:Clubabend
END:VEVENT
BEGIN:VEVENT
DTSTART;TZID=Europe/Berlin:20251003T113000
DTEND;TZID=Europe/Berlin:20251003T170000
DTSTAMP:20260424T173238
CREATED:20250424T122945Z
LAST-MODIFIED:20250928T084418Z
UID:2198-1759491000-1759510800@www.vespalinge.de
SUMMARY:Abrollern der Morlocks
DESCRIPTION:Das beliebte Spektakel mit Start am Winterfeldtplatz. Treffpunkt der Vespalinge um 11 Uhr vor dem Rathaus Schöneberg.
URL:https://www.vespalinge.de/event/abrollern-der-morlocks/
LOCATION:Winterfeldtplatz (Schöneberg)\, Winterfeldplatz\, Berlin\, 10781\, Deutschland
CATEGORIES:Abrollern
END:VEVENT
BEGIN:VEVENT
DTSTART;TZID=Europe/Berlin:20250925T183000
DTEND;TZID=Europe/Berlin:20250925T213000
DTSTAMP:20260424T173238
CREATED:20250510T130835Z
LAST-MODIFIED:20250510T130835Z
UID:2235-1758825000-1758835800@www.vespalinge.de
SUMMARY:Clubabend
DESCRIPTION:Die Clubabende der Vespalinge finden 14-tägig\, jeden Donnerstag der ungeraden Wochenzahlen statt (19./21./23./25. Kalenderwoche\, etc). Sollte anstelle des Clublokals „Sempre“ (Eisenacher Str. 19 in 12109 Berlin) eine andere Örtlichkeit gewählt werden\, wird dies entsprechend bekannt gegeben.
URL:https://www.vespalinge.de/event/clubabend-128/
LOCATION:Ristorante Sempre (Tempelhof/Mariendorf)\, Eisenacher Straße 19\, Berlin\, 12109\, Germany
CATEGORIES:Clubabend
END:VEVENT
BEGIN:VEVENT
DTSTART;TZID=Europe/Berlin:20250911T183000
DTEND;TZID=Europe/Berlin:20250911T213000
DTSTAMP:20260424T173238
CREATED:20250510T130341Z
LAST-MODIFIED:20250510T130342Z
UID:2231-1757615400-1757626200@www.vespalinge.de
SUMMARY:Clubabend
DESCRIPTION:Die Clubabende der Vespalinge finden 14-tägig\, jeden Donnerstag der ungeraden Wochenzahlen statt (19./21./23./25. Kalenderwoche\, etc). Sollte anstelle des Clublokals „Sempre“ (Eisenacher Str. 19 in 12109 Berlin) eine andere Örtlichkeit gewählt werden\, wird dies entsprechend bekannt gegeben.
URL:https://www.vespalinge.de/event/clubabend-126/
LOCATION:Ristorante Sempre (Tempelhof/Mariendorf)\, Eisenacher Straße 19\, Berlin\, 12109\, Germany
CATEGORIES:Clubabend
END:VEVENT
BEGIN:VEVENT
DTSTART;TZID=Europe/Berlin:20250829T090000
DTEND;TZID=Europe/Berlin:20250829T170000
DTSTAMP:20260424T173238
CREATED:20250424T122711Z
LAST-MODIFIED:20250704T112405Z
UID:2196-1756458000-1756486800@www.vespalinge.de
SUMMARY:Heidetreffen des VC Celle
DESCRIPTION:Vom 29.08. bis 31.08.2025  Nennungen über Julian. Gemeinsame Abfahrt wird noch bekannt gegeben.
URL:https://www.vespalinge.de/event/heidetreffen-des-vc-celle/
CATEGORIES:Treffen
END:VEVENT
BEGIN:VEVENT
DTSTART;TZID=Europe/Berlin:20250828T183000
DTEND;TZID=Europe/Berlin:20250828T213000
DTSTAMP:20260424T173238
CREATED:20250510T130222Z
LAST-MODIFIED:20250510T130223Z
UID:2229-1756405800-1756416600@www.vespalinge.de
SUMMARY:Clubabend
DESCRIPTION:Die Clubabende der Vespalinge finden 14-tägig\, jeden Donnerstag der ungeraden Wochenzahlen statt (19./21./23./25. Kalenderwoche\, etc). Sollte anstelle des Clublokals „Sempre“ (Eisenacher Str. 19 in 12109 Berlin) eine andere Örtlichkeit gewählt werden\, wird dies entsprechend bekannt gegeben.
URL:https://www.vespalinge.de/event/clubabend-125/
LOCATION:Ristorante Sempre (Tempelhof/Mariendorf)\, Eisenacher Straße 19\, Berlin\, 12109\, Germany
CATEGORIES:Clubabend
END:VEVENT
BEGIN:VEVENT
DTSTART;TZID=Europe/Berlin:20250822T093000
DTEND;TZID=Europe/Berlin:20250822T170000
DTSTAMP:20260424T173238
CREATED:20250424T122353Z
LAST-MODIFIED:20250704T112321Z
UID:2192-1755855000-1755882000@www.vespalinge.de
SUMMARY:Vespatreffen VC Hamburg
DESCRIPTION:22.08.2025 bis 24.08.2025 Bzgl. Nennungen etc.  bitte an Julian wenden. Die gemeinsame Abfahrt wird noch bekannt gegeben.
URL:https://www.vespalinge.de/event/vespatreffen-vc-hamburg/
CATEGORIES:Treffen
END:VEVENT
BEGIN:VEVENT
DTSTART;TZID=Europe/Berlin:20250814T183000
DTEND;TZID=Europe/Berlin:20250814T213000
DTSTAMP:20260424T173238
CREATED:20250510T125939Z
LAST-MODIFIED:20250811T061326Z
UID:2227-1755196200-1755207000@www.vespalinge.de
SUMMARY:Clubabend
DESCRIPTION:Achtung!!! Da das Sempre noch in den Sommerferien ist\, findet dieser Clubabend noch einmal in der Trattoria Romana statt!!!
URL:https://www.vespalinge.de/event/clubabend-124/
LOCATION:Ristorante Sempre (Tempelhof/Mariendorf)\, Eisenacher Straße 19\, Berlin\, 12109\, Germany
CATEGORIES:Clubabend
END:VEVENT
BEGIN:VEVENT
DTSTART;TZID=Europe/Berlin:20250731T183000
DTEND;TZID=Europe/Berlin:20250731T213000
DTSTAMP:20260424T173238
CREATED:20250704T101237Z
LAST-MODIFIED:20250704T112108Z
UID:2390-1753986600-1753997400@www.vespalinge.de
SUMMARY:Clubabend
DESCRIPTION:Auf Grund der Sommerpause des „Sempre“\, findet der Clubabend heute in der „Trattoria Romana“ statt!!! \nDer nächste am 14. August wird ebenfalls eine andere Location finden! Bitte den Kalender beachten.
URL:https://www.vespalinge.de/event/2390/
LOCATION:Trattoria Romana\, Unter den Eichen 84d\, Berlin\, 12205\, Germany
CATEGORIES:Clubabend
END:VEVENT
BEGIN:VEVENT
DTSTART;TZID=Europe/Berlin:20250720T100000
DTEND;TZID=Europe/Berlin:20250720T170000
DTSTAMP:20260424T173238
CREATED:20250424T122125Z
LAST-MODIFIED:20250704T112210Z
UID:2190-1753005600-1753030800@www.vespalinge.de
SUMMARY:Oderland-/Oderbruch-Tour
DESCRIPTION:Die ursprünglich geplante Picknicktour von Jenny & Flo wird in den August verschoben. Genaues Datum folgt umgehend. \nDie Oderland-Tour ist nur für Mitglieder. Teilnahme bitte bis spätestens 13. Juli verbindlich an Max signalisieren!
URL:https://www.vespalinge.de/event/picknick-tour-jenny-florian/
CATEGORIES:Ausfahrt
END:VEVENT
BEGIN:VEVENT
DTSTART;TZID=Europe/Berlin:20250717T183000
DTEND;TZID=Europe/Berlin:20250717T213000
DTSTAMP:20260424T173238
CREATED:20250510T125629Z
LAST-MODIFIED:20250510T125630Z
UID:2223-1752777000-1752787800@www.vespalinge.de
SUMMARY:Clubabend
DESCRIPTION:Die Clubabende der Vespalinge finden 14-tägig\, jeden Donnerstag der ungeraden Wochenzahlen statt (19./21./23./25. Kalenderwoche\, etc). Sollte anstelle des Clublokals „Sempre“ (Eisenacher Str. 19 in 12109 Berlin) eine andere Örtlichkeit gewählt werden\, wird dies entsprechend bekannt gegeben.
URL:https://www.vespalinge.de/event/clubabend-122/
LOCATION:Ristorante Sempre (Tempelhof/Mariendorf)\, Eisenacher Straße 19\, Berlin\, 12109\, Germany
CATEGORIES:Clubabend
END:VEVENT
BEGIN:VEVENT
DTSTART;TZID=Europe/Berlin:20250703T183000
DTEND;TZID=Europe/Berlin:20250703T213000
DTSTAMP:20260424T173238
CREATED:20250510T123831Z
LAST-MODIFIED:20250510T124219Z
UID:2213-1751567400-1751578200@www.vespalinge.de
SUMMARY:Clubabend
DESCRIPTION:Die Clubabende der Vespalinge finden 14-tägig\, jeden Donnerstag der ungeraden Wochenzahlen statt (19./21./23./25. Kalenderwoche\, etc). Sollte anstelle des Clublokals „Sempre“ (Eisenacher Str. 19 in 12109 Berlin) eine andere Örtlichkeit gewählt werden\, wird dies entsprechend bekannt gegeben.
URL:https://www.vespalinge.de/event/clubabend-118/
LOCATION:Ristorante Sempre (Tempelhof/Mariendorf)\, Eisenacher Straße 19\, Berlin\, 12109\, Germany
CATEGORIES:Clubabend
END:VEVENT
BEGIN:VEVENT
DTSTART;TZID=Europe/Berlin:20250621T080000
DTEND;TZID=Europe/Berlin:20250621T170000
DTSTAMP:20260424T173238
CREATED:20250424T121849Z
LAST-MODIFIED:20260311T084428Z
UID:2188-1750492800-1750525200@www.vespalinge.de
SUMMARY:Vespatreffen vom VC Hannover
DESCRIPTION:Veranstaltung vom 21. und 22.06.2025
URL:https://www.vespalinge.de/event/vespatreffen-vom-vc-hannover/
CATEGORIES:Ausfahrt
END:VEVENT
BEGIN:VEVENT
DTSTART;TZID=Europe/Berlin:20250619T183000
DTEND;TZID=Europe/Berlin:20250619T213000
DTSTAMP:20260424T173238
CREATED:20250510T125426Z
LAST-MODIFIED:20260311T084436Z
UID:2221-1750357800-1750368600@www.vespalinge.de
SUMMARY:Clubabend
DESCRIPTION:Die Clubabende der Vespalinge finden 14-tägig\, jeden Donnerstag der ungeraden Wochenzahlen statt (19./21./23./25. Kalenderwoche\, etc). Sollte anstelle des Clublokals „Sempre“ (Eisenacher Str. 19 in 12109 Berlin) eine andere Örtlichkeit gewählt werden\, wird dies entsprechend bekannt gegeben.
URL:https://www.vespalinge.de/event/clubabend-121/
LOCATION:Ristorante Sempre (Tempelhof/Mariendorf)\, Eisenacher Straße 19\, Berlin\, 12109\, Germany
CATEGORIES:Clubabend
END:VEVENT
END:VCALENDAR