BEGIN:VCALENDAR
VERSION:2.0
PRODID:-//Vespalinge Berlin - ECPv6.15.20//NONSGML v1.0//EN
CALSCALE:GREGORIAN
METHOD:PUBLISH
X-WR-CALNAME:Vespalinge Berlin
X-ORIGINAL-URL:https://www.vespalinge.de
X-WR-CALDESC:Veranstaltungen für Vespalinge Berlin
REFRESH-INTERVAL;VALUE=DURATION:PT1H
X-Robots-Tag:noindex
X-PUBLISHED-TTL:PT1H
BEGIN:VTIMEZONE
TZID:Europe/Berlin
BEGIN:DAYLIGHT
TZOFFSETFROM:+0100
TZOFFSETTO:+0200
TZNAME:CEST
DTSTART:20230326T010000
END:DAYLIGHT
BEGIN:STANDARD
TZOFFSETFROM:+0200
TZOFFSETTO:+0100
TZNAME:CET
DTSTART:20231029T010000
END:STANDARD
BEGIN:DAYLIGHT
TZOFFSETFROM:+0100
TZOFFSETTO:+0200
TZNAME:CEST
DTSTART:20240331T010000
END:DAYLIGHT
BEGIN:STANDARD
TZOFFSETFROM:+0200
TZOFFSETTO:+0100
TZNAME:CET
DTSTART:20241027T010000
END:STANDARD
BEGIN:DAYLIGHT
TZOFFSETFROM:+0100
TZOFFSETTO:+0200
TZNAME:CEST
DTSTART:20250330T010000
END:DAYLIGHT
BEGIN:STANDARD
TZOFFSETFROM:+0200
TZOFFSETTO:+0100
TZNAME:CET
DTSTART:20251026T010000
END:STANDARD
END:VTIMEZONE
BEGIN:VEVENT
DTSTART;TZID=Europe/Berlin:20240509T190000
DTEND;TZID=Europe/Berlin:20240509T220000
DTSTAMP:20260426T051625
CREATED:20240516T054927Z
LAST-MODIFIED:20240516T054927Z
UID:2025-1715281200-1715292000@www.vespalinge.de
SUMMARY:Clubabend
DESCRIPTION:Clubabend im Ristorante Sempre (Tempelhof/Mariendorf)
URL:https://www.vespalinge.de/event/clubabend-108/
LOCATION:Ristorante Sempre (Tempelhof/Mariendorf)\, Eisenacher Straße 19\, Berlin\, 12109\, Germany
CATEGORIES:Clubabend
END:VEVENT
BEGIN:VEVENT
DTSTART;TZID=Europe/Berlin:20240523T190000
DTEND;TZID=Europe/Berlin:20240523T220000
DTSTAMP:20260426T051625
CREATED:20240516T055050Z
LAST-MODIFIED:20240516T055050Z
UID:2027-1716490800-1716501600@www.vespalinge.de
SUMMARY:Clubabend
DESCRIPTION:Clubabend im Ristorante Sempre (Tempelhof/Mariendorf)
URL:https://www.vespalinge.de/event/clubabend-109/
LOCATION:Ristorante Sempre (Tempelhof/Mariendorf)\, Eisenacher Straße 19\, Berlin\, 12109\, Germany
CATEGORIES:Clubabend
END:VEVENT
END:VCALENDAR