BEGIN:VCALENDAR
VERSION:2.0
PRODID:-//Vespalinge Berlin - ECPv6.15.20//NONSGML v1.0//EN
CALSCALE:GREGORIAN
METHOD:PUBLISH
X-WR-CALNAME:Vespalinge Berlin
X-ORIGINAL-URL:https://www.vespalinge.de
X-WR-CALDESC:Veranstaltungen für Vespalinge Berlin
REFRESH-INTERVAL;VALUE=DURATION:PT1H
X-Robots-Tag:noindex
X-PUBLISHED-TTL:PT1H
BEGIN:VTIMEZONE
TZID:Europe/Berlin
BEGIN:DAYLIGHT
TZOFFSETFROM:+0100
TZOFFSETTO:+0200
TZNAME:CEST
DTSTART:20230326T010000
END:DAYLIGHT
BEGIN:STANDARD
TZOFFSETFROM:+0200
TZOFFSETTO:+0100
TZNAME:CET
DTSTART:20231029T010000
END:STANDARD
BEGIN:DAYLIGHT
TZOFFSETFROM:+0100
TZOFFSETTO:+0200
TZNAME:CEST
DTSTART:20240331T010000
END:DAYLIGHT
BEGIN:STANDARD
TZOFFSETFROM:+0200
TZOFFSETTO:+0100
TZNAME:CET
DTSTART:20241027T010000
END:STANDARD
BEGIN:DAYLIGHT
TZOFFSETFROM:+0100
TZOFFSETTO:+0200
TZNAME:CEST
DTSTART:20250330T010000
END:DAYLIGHT
BEGIN:STANDARD
TZOFFSETFROM:+0200
TZOFFSETTO:+0100
TZNAME:CET
DTSTART:20251026T010000
END:STANDARD
END:VTIMEZONE
BEGIN:VEVENT
DTSTART;TZID=Europe/Berlin:20240815T183000
DTEND;TZID=Europe/Berlin:20240815T220000
DTSTAMP:20260426T001929
CREATED:20240815T102209Z
LAST-MODIFIED:20240815T103535Z
UID:2039-1723746600-1723759200@www.vespalinge.de
SUMMARY:Clubabend
DESCRIPTION:Clubabend in der Trattoria Romana (Lichterfelde)
URL:https://www.vespalinge.de/event/clubabend-110/
LOCATION:Trattoria Romana\, Unter den Eichen 84d\, Berlin\, 12205\, Germany
CATEGORIES:Clubabend
END:VEVENT
BEGIN:VEVENT
DTSTART;TZID=Europe/Berlin:20240829T190000
DTEND;TZID=Europe/Berlin:20240829T220000
DTSTAMP:20260426T001929
CREATED:20240829T053336Z
LAST-MODIFIED:20240829T053336Z
UID:2054-1724958000-1724968800@www.vespalinge.de
SUMMARY:Clubabend
DESCRIPTION:Clubabend im Ristorante Sempre (Tempelhof/Mariendorf)
URL:https://www.vespalinge.de/event/clubabend-112/
LOCATION:Ristorante Sempre (Tempelhof/Mariendorf)\, Eisenacher Straße 19\, Berlin\, 12109\, Germany
CATEGORIES:Clubabend
END:VEVENT
END:VCALENDAR