BEGIN:VCALENDAR
VERSION:2.0
PRODID:-//Vespalinge Berlin - ECPv6.15.20//NONSGML v1.0//EN
CALSCALE:GREGORIAN
METHOD:PUBLISH
X-ORIGINAL-URL:https://www.vespalinge.de
X-WR-CALDESC:Veranstaltungen für Vespalinge Berlin
REFRESH-INTERVAL;VALUE=DURATION:PT1H
X-Robots-Tag:noindex
X-PUBLISHED-TTL:PT1H
BEGIN:VTIMEZONE
TZID:Europe/Berlin
BEGIN:DAYLIGHT
TZOFFSETFROM:+0100
TZOFFSETTO:+0200
TZNAME:CEST
DTSTART:20240331T010000
END:DAYLIGHT
BEGIN:STANDARD
TZOFFSETFROM:+0200
TZOFFSETTO:+0100
TZNAME:CET
DTSTART:20241027T010000
END:STANDARD
BEGIN:DAYLIGHT
TZOFFSETFROM:+0100
TZOFFSETTO:+0200
TZNAME:CEST
DTSTART:20250330T010000
END:DAYLIGHT
BEGIN:STANDARD
TZOFFSETFROM:+0200
TZOFFSETTO:+0100
TZNAME:CET
DTSTART:20251026T010000
END:STANDARD
BEGIN:DAYLIGHT
TZOFFSETFROM:+0100
TZOFFSETTO:+0200
TZNAME:CEST
DTSTART:20260329T010000
END:DAYLIGHT
BEGIN:STANDARD
TZOFFSETFROM:+0200
TZOFFSETTO:+0100
TZNAME:CET
DTSTART:20261025T010000
END:STANDARD
END:VTIMEZONE
BEGIN:VEVENT
DTSTART;TZID=Europe/Berlin:20250814T183000
DTEND;TZID=Europe/Berlin:20250814T213000
DTSTAMP:20260425T055606
CREATED:20250510T125939Z
LAST-MODIFIED:20250811T061326Z
UID:2227-1755196200-1755207000@www.vespalinge.de
SUMMARY:Clubabend
DESCRIPTION:Achtung!!! Da das Sempre noch in den Sommerferien ist\, findet dieser Clubabend noch einmal in der Trattoria Romana statt!!!
URL:https://www.vespalinge.de/event/clubabend-124/
LOCATION:Ristorante Sempre (Tempelhof/Mariendorf)\, Eisenacher Straße 19\, Berlin\, 12109\, Germany
CATEGORIES:Clubabend
END:VEVENT
BEGIN:VEVENT
DTSTART;TZID=Europe/Berlin:20250822T093000
DTEND;TZID=Europe/Berlin:20250822T170000
DTSTAMP:20260425T055606
CREATED:20250424T122353Z
LAST-MODIFIED:20250704T112321Z
UID:2192-1755855000-1755882000@www.vespalinge.de
SUMMARY:Vespatreffen VC Hamburg
DESCRIPTION:22.08.2025 bis 24.08.2025 Bzgl. Nennungen etc.  bitte an Julian wenden. Die gemeinsame Abfahrt wird noch bekannt gegeben.
URL:https://www.vespalinge.de/event/vespatreffen-vc-hamburg/
CATEGORIES:Treffen
END:VEVENT
BEGIN:VEVENT
DTSTART;TZID=Europe/Berlin:20250828T183000
DTEND;TZID=Europe/Berlin:20250828T213000
DTSTAMP:20260425T055606
CREATED:20250510T130222Z
LAST-MODIFIED:20250510T130223Z
UID:2229-1756405800-1756416600@www.vespalinge.de
SUMMARY:Clubabend
DESCRIPTION:Die Clubabende der Vespalinge finden 14-tägig\, jeden Donnerstag der ungeraden Wochenzahlen statt (19./21./23./25. Kalenderwoche\, etc). Sollte anstelle des Clublokals „Sempre“ (Eisenacher Str. 19 in 12109 Berlin) eine andere Örtlichkeit gewählt werden\, wird dies entsprechend bekannt gegeben.
URL:https://www.vespalinge.de/event/clubabend-125/
LOCATION:Ristorante Sempre (Tempelhof/Mariendorf)\, Eisenacher Straße 19\, Berlin\, 12109\, Germany
CATEGORIES:Clubabend
END:VEVENT
BEGIN:VEVENT
DTSTART;TZID=Europe/Berlin:20250829T090000
DTEND;TZID=Europe/Berlin:20250829T170000
DTSTAMP:20260425T055606
CREATED:20250424T122711Z
LAST-MODIFIED:20250704T112405Z
UID:2196-1756458000-1756486800@www.vespalinge.de
SUMMARY:Heidetreffen des VC Celle
DESCRIPTION:Vom 29.08. bis 31.08.2025  Nennungen über Julian. Gemeinsame Abfahrt wird noch bekannt gegeben.
URL:https://www.vespalinge.de/event/heidetreffen-des-vc-celle/
CATEGORIES:Treffen
END:VEVENT
END:VCALENDAR