BEGIN:VCALENDAR
VERSION:2.0
PRODID:-//Vespalinge Berlin - ECPv6.15.20//NONSGML v1.0//EN
CALSCALE:GREGORIAN
METHOD:PUBLISH
X-WR-CALNAME:Vespalinge Berlin
X-ORIGINAL-URL:https://www.vespalinge.de
X-WR-CALDESC:Veranstaltungen für Vespalinge Berlin
REFRESH-INTERVAL;VALUE=DURATION:PT1H
X-Robots-Tag:noindex
X-PUBLISHED-TTL:PT1H
BEGIN:VTIMEZONE
TZID:Europe/Berlin
BEGIN:DAYLIGHT
TZOFFSETFROM:+0100
TZOFFSETTO:+0200
TZNAME:CEST
DTSTART:20240331T010000
END:DAYLIGHT
BEGIN:STANDARD
TZOFFSETFROM:+0200
TZOFFSETTO:+0100
TZNAME:CET
DTSTART:20241027T010000
END:STANDARD
BEGIN:DAYLIGHT
TZOFFSETFROM:+0100
TZOFFSETTO:+0200
TZNAME:CEST
DTSTART:20250330T010000
END:DAYLIGHT
BEGIN:STANDARD
TZOFFSETFROM:+0200
TZOFFSETTO:+0100
TZNAME:CET
DTSTART:20251026T010000
END:STANDARD
BEGIN:DAYLIGHT
TZOFFSETFROM:+0100
TZOFFSETTO:+0200
TZNAME:CEST
DTSTART:20260329T010000
END:DAYLIGHT
BEGIN:STANDARD
TZOFFSETFROM:+0200
TZOFFSETTO:+0100
TZNAME:CET
DTSTART:20261025T010000
END:STANDARD
END:VTIMEZONE
BEGIN:VEVENT
DTSTART;TZID=Europe/Berlin:20250911T183000
DTEND;TZID=Europe/Berlin:20250911T213000
DTSTAMP:20260425T041404
CREATED:20250510T130341Z
LAST-MODIFIED:20250510T130342Z
UID:2231-1757615400-1757626200@www.vespalinge.de
SUMMARY:Clubabend
DESCRIPTION:Die Clubabende der Vespalinge finden 14-tägig\, jeden Donnerstag der ungeraden Wochenzahlen statt (19./21./23./25. Kalenderwoche\, etc). Sollte anstelle des Clublokals „Sempre“ (Eisenacher Str. 19 in 12109 Berlin) eine andere Örtlichkeit gewählt werden\, wird dies entsprechend bekannt gegeben.
URL:https://www.vespalinge.de/event/clubabend-126/
LOCATION:Ristorante Sempre (Tempelhof/Mariendorf)\, Eisenacher Straße 19\, Berlin\, 12109\, Germany
CATEGORIES:Clubabend
END:VEVENT
BEGIN:VEVENT
DTSTART;TZID=Europe/Berlin:20250925T183000
DTEND;TZID=Europe/Berlin:20250925T213000
DTSTAMP:20260425T041404
CREATED:20250510T130835Z
LAST-MODIFIED:20250510T130835Z
UID:2235-1758825000-1758835800@www.vespalinge.de
SUMMARY:Clubabend
DESCRIPTION:Die Clubabende der Vespalinge finden 14-tägig\, jeden Donnerstag der ungeraden Wochenzahlen statt (19./21./23./25. Kalenderwoche\, etc). Sollte anstelle des Clublokals „Sempre“ (Eisenacher Str. 19 in 12109 Berlin) eine andere Örtlichkeit gewählt werden\, wird dies entsprechend bekannt gegeben.
URL:https://www.vespalinge.de/event/clubabend-128/
LOCATION:Ristorante Sempre (Tempelhof/Mariendorf)\, Eisenacher Straße 19\, Berlin\, 12109\, Germany
CATEGORIES:Clubabend
END:VEVENT
END:VCALENDAR