BEGIN:VCALENDAR
VERSION:2.0
PRODID:-//Vespalinge Berlin - ECPv6.15.20//NONSGML v1.0//EN
CALSCALE:GREGORIAN
METHOD:PUBLISH
X-WR-CALNAME:Vespalinge Berlin
X-ORIGINAL-URL:https://www.vespalinge.de
X-WR-CALDESC:Veranstaltungen für Vespalinge Berlin
REFRESH-INTERVAL;VALUE=DURATION:PT1H
X-Robots-Tag:noindex
X-PUBLISHED-TTL:PT1H
BEGIN:VTIMEZONE
TZID:Europe/Berlin
BEGIN:DAYLIGHT
TZOFFSETFROM:+0100
TZOFFSETTO:+0200
TZNAME:CEST
DTSTART:20250330T010000
END:DAYLIGHT
BEGIN:STANDARD
TZOFFSETFROM:+0200
TZOFFSETTO:+0100
TZNAME:CET
DTSTART:20251026T010000
END:STANDARD
BEGIN:DAYLIGHT
TZOFFSETFROM:+0100
TZOFFSETTO:+0200
TZNAME:CEST
DTSTART:20260329T010000
END:DAYLIGHT
BEGIN:STANDARD
TZOFFSETFROM:+0200
TZOFFSETTO:+0100
TZNAME:CET
DTSTART:20261025T010000
END:STANDARD
BEGIN:DAYLIGHT
TZOFFSETFROM:+0100
TZOFFSETTO:+0200
TZNAME:CEST
DTSTART:20270328T010000
END:DAYLIGHT
BEGIN:STANDARD
TZOFFSETFROM:+0200
TZOFFSETTO:+0100
TZNAME:CET
DTSTART:20271031T010000
END:STANDARD
END:VTIMEZONE
BEGIN:VEVENT
DTSTART;TZID=Europe/Berlin:20260501T113000
DTEND;TZID=Europe/Berlin:20260501T160000
DTSTAMP:20260424T201123
CREATED:20220508T011021Z
LAST-MODIFIED:20260423T061852Z
UID:1548-1777635000-1777651200@www.vespalinge.de
SUMMARY:Anrollern (Morlocks Berlin)
DESCRIPTION:Das legendäre alljährliche (spontane) Beriner Anrollern mit Start am Winterfeldtplatz…\nDie Vespalinge treffen sich gegen 11:11 vor dem Rathaus Schöneberg\, um dann gemeinsam zum Winterfeldtplatz zu rollern. \n 
URL:https://www.vespalinge.de/event/anrollern-berlin/
LOCATION:Winterfeldtplatz (Schöneberg)\, Winterfeldplatz\, Berlin\, 10781\, Deutschland
CATEGORIES:Anrollern
ATTACH;FMTTYPE=image/jpeg:https://www.vespalinge.de/wp-content/uploads/2022/05/IMG_3228-scaled-e1774804171536.jpeg
END:VEVENT
BEGIN:VEVENT
DTSTART;TZID=Europe/Berlin:20260507T183000
DTEND;TZID=Europe/Berlin:20260507T213000
DTSTAMP:20260424T201123
CREATED:20260329T160047Z
LAST-MODIFIED:20260329T171618Z
UID:2006-1778178600-1778189400@www.vespalinge.de
SUMMARY:Clubabend
DESCRIPTION:Die Clubabende der Vespalinge finden 14-tägig\, jeden Donnerstag der ungeraden Wochenzahlen statt (19./21./23./25. Kalenderwoche\, etc). Sollte anstelle des Clublokals „Sempre“ (Eisenacher Str. 19 in 12109 Berlin) eine andere Örtlichkeit gewählt werden\, wird dies entsprechend bekannt gegeben.
URL:https://www.vespalinge.de/event/clubabend-104/
LOCATION:Ristorante Sempre (Tempelhof/Mariendorf)\, Eisenacher Straße 19\, Berlin\, 12109\, Germany
CATEGORIES:Clubabend
ATTACH;FMTTYPE=image/jpeg:https://www.vespalinge.de/wp-content/uploads/2025/12/Sempre.jpg
END:VEVENT
END:VCALENDAR